BEGIN:VCALENDAR
VERSION:2.0
PRODID:-//hacksw/handcal//NONSGML v1.0//EN
BEGIN:VEVENT
SUMMARY:Challenge USON Tir
UID:bc9ba68d-9afb-4bd1-8881-81210417f535
DTSTART:20260514T220000Z
DTEND:20260517T220000Z
LOCATION:Localisation USON Tir 184 Avenue du Stand 58000 CHALLUY
CATEGORIES:Sportif
STATUS:
URL;VALUE=URI:https://www.asdeols-tir.com/evenements/2026/05/15/challenge-uson-tir-2440017
END:VEVENT
END:VCALENDAR
