BEGIN:VCALENDAR
VERSION:2.0
PRODID:-//hacksw/handcal//NONSGML v1.0//EN
BEGIN:VEVENT
SUMMARY:40e CdF Ecoles de Tir
UID:b9123f22-b589-48ba-95e6-35b84f89d31c
DTSTART:20260513T220000Z
DTEND:20260517T220000Z
LOCATION:Localisation Parc des Expositions Avenue du Viguier 34500 Beziers
CATEGORIES:Sportif
STATUS:
DESCRIPTION:<p><span style="font-size:16px;"><a
 href="https://www.fftir.org/competitions/40e-cdf-ecoles-de-tir"
 target="_blank" rel="noreferrer noopener">40e CdF Ecoles de
 Tir</a></span></p>
URL;VALUE=URI:https://www.asdeols-tir.com/evenements/2026/05/14/40e-cdf-ecoles-de-tir-2442179
END:VEVENT
END:VCALENDAR
