BEGIN:VCALENDAR
VERSION:2.0
PRODID:-//hacksw/handcal//NONSGML v1.0//EN
BEGIN:VEVENT
SUMMARY:Regional TAR
UID:81450424-5947-4832-aca0-baf884d6e7be
DTSTART:20260507T220000Z
DTEND:20260510T220000Z
LOCATION:Localisation Stand De Tir ATSC, Lieu-dit Trotte-Loups 37500 Chinon
CATEGORIES:Sportif
STATUS:
DESCRIPTION:<p><span style="font-size:16px;"><a
 href="https://fftir-centre.fr/competitions/regional-tir-aux-armes-reglementaires"
 target="_blank" rel="noreferrer noopener">Regional TAR</a></span></p>
URL;VALUE=URI:https://www.asdeols-tir.com/evenements/2026/05/08/regional-tar-2442177
END:VEVENT
END:VCALENDAR
