BEGIN:VCALENDAR
VERSION:2.0
PRODID:-//hacksw/handcal//NONSGML v1.0//EN
BEGIN:VEVENT
SUMMARY:Championnat Departemental 25/50 metres
UID:99bd0ce9-0e82-44bf-9f79-204e734324b4
DTSTART:20260501T220000Z
DTEND:20260503T220000Z
LOCATION:Localisation 12 rue de Villeret 36210 Chabris
CATEGORIES:Sportif
STATUS:
URL;VALUE=URI:https://www.asdeols-tir.com/evenements/2026/05/02/championnat-departemental-2550-metres-2442172
END:VEVENT
END:VCALENDAR
