BEGIN:VCALENDAR
VERSION:2.0
PRODID:-//hacksw/handcal//NONSGML v1.0//EN
BEGIN:VEVENT
SUMMARY:Regional Armes Anciennes
UID:4fb11870-c4ab-47d6-b534-70ef36701173
DTSTART:20260424T220000Z
DTEND:20260426T220000Z
LOCATION:Localisation Stand De Tir ATSC, Lieu-dit Trotte-Loups 37500 Chinon
CATEGORIES:Sportif
STATUS:
DESCRIPTION:<p><span style="font-size:16px;"><a
 href="https://fftir-centre.fr/competitions/regional-armes-anciennes-2"
 target="_blank" rel="noreferrer noopener">Regional Armes
 Anciennes</a></span></p>
URL;VALUE=URI:https://www.asdeols-tir.com/evenements/2026/04/25/regional-armes-anciennes-2442170
END:VEVENT
END:VCALENDAR
