BEGIN:VCALENDAR
VERSION:2.0
PRODID:-//hacksw/handcal//NONSGML v1.0//EN
BEGIN:VEVENT
SUMMARY:CM ISSF Cible et Plateau Juniors Le Caire 2026
UID:617744ef-f994-41b3-9024-65dec106332d
DTSTART:20260418T220000Z
DTEND:20260427T220000Z
LOCATION:Localisation   
CATEGORIES:Sportif
STATUS:
DESCRIPTION:<p><span style="font-size:16px;"><a
 href="https://www.fftir.org/competitions/cm-issf-cible-et-plateau-juniors-le-caire-2026"
 target="_blank" rel="noreferrer noopener">CM ISSF Cible et Plateau
 Juniors Le Caire 2026</a></span></p>
URL;VALUE=URI:https://www.asdeols-tir.com/evenements/2026/04/19/cm-issf-cible-et-plateau-juniors-le-caire-2026-2443614
END:VEVENT
END:VCALENDAR
