BEGIN:VCALENDAR
VERSION:2.0
PRODID:-//hacksw/handcal//NONSGML v1.0//EN
BEGIN:VEVENT
SUMMARY:CHAMPIONNAT REGIONAL Ecoles de Tir
UID:04838077-b4af-4b68-973f-b9d637c87c93
DTSTART:20260410T220000Z
DTEND:20260412T220000Z
LOCATION:Localisation   
CATEGORIES:Sportif
STATUS:
DESCRIPTION:<p><span style="font-size:16px;"><a
 href="https://fftir-centre.fr/competitions/regional-edt-10m"
 target="_blank" rel="noreferrer noopener">CHAMPIONNAT REGIONAL Ecoles
 de Tir</a></span></p>
URL;VALUE=URI:https://www.asdeols-tir.com/evenements/2026/04/11/championnat-regional-ecoles-de-tir-2440443
END:VEVENT
END:VCALENDAR
